BEGIN:VCALENDAR
VERSION:2.0
PRODID:-//Barnsley Singers - ECPv6.15.15//NONSGML v1.0//EN
CALSCALE:GREGORIAN
METHOD:PUBLISH
X-ORIGINAL-URL:https://www.barnsleysingers.org.uk
X-WR-CALDESC:Events for Barnsley Singers
REFRESH-INTERVAL;VALUE=DURATION:PT1H
X-Robots-Tag:noindex
X-PUBLISHED-TTL:PT1H
BEGIN:VTIMEZONE
TZID:Europe/London
BEGIN:DAYLIGHT
TZOFFSETFROM:+0000
TZOFFSETTO:+0100
TZNAME:BST
DTSTART:20180325T010000
END:DAYLIGHT
BEGIN:STANDARD
TZOFFSETFROM:+0100
TZOFFSETTO:+0000
TZNAME:GMT
DTSTART:20181028T010000
END:STANDARD
BEGIN:DAYLIGHT
TZOFFSETFROM:+0000
TZOFFSETTO:+0100
TZNAME:BST
DTSTART:20190331T010000
END:DAYLIGHT
BEGIN:STANDARD
TZOFFSETFROM:+0100
TZOFFSETTO:+0000
TZNAME:GMT
DTSTART:20191027T010000
END:STANDARD
BEGIN:DAYLIGHT
TZOFFSETFROM:+0000
TZOFFSETTO:+0100
TZNAME:BST
DTSTART:20200329T010000
END:DAYLIGHT
BEGIN:STANDARD
TZOFFSETFROM:+0100
TZOFFSETTO:+0000
TZNAME:GMT
DTSTART:20201025T010000
END:STANDARD
END:VTIMEZONE
BEGIN:VEVENT
DTSTART;TZID=Europe/London:20191212T170000
DTEND;TZID=Europe/London:20191212T200000
DTSTAMP:20260421T223227
CREATED:20190717T213107Z
LAST-MODIFIED:20191208T214141Z
UID:6287-1576170000-1576180800@www.barnsleysingers.org.uk
SUMMARY:Crisis Carol Concert
DESCRIPTION:Hope House Church\, Wellington Street\, Barnsley \nWe are honoured to yet again be performing at this concert to help raise\nfunds for the Crisis Charity. I have attached the poster for the event. If\nyou have any family or friends who wish to attend to support this event they\nmust get a ticket by visiting\n<https://www.crisis.org.uk/get-involved/crisis-christmas-carol-services/even\nts/barnsley-carol-service/>\nhttps://www.crisis.org.uk/get-involved/crisis-christmas-carol-services/event\ns/barnsley-carol-service/ The event is free to attend but all those\nattending to watch the service  must have a ticket. Choir members who are\nperforming will not need to get a ticket. \nAt this concert we will be singing: \nShine\, Winter’s Tale\, White Christmas and Streets of London \nWe are asking members to get there for 5pm so we can sing through the\npieces\, get in position etc but please don’t worry if you cant arrive at\nthat time. The concert starts at 6:30pm so the latest we would ask members\nto arrive for is 6pm so we are in an seated before the audience begins. \nWe will be wearing concert dress – black with a splash of red. \nIf you are planning to sing in this concert please can you let the\nregistration team know when you are signing in so we have a general idea of\nthe number attending.
URL:https://www.barnsleysingers.org.uk/calendar/crisis-carol-concert/
LOCATION:Hope house church\, 27 Wellington St\, Barnsley\, S70 1SW
END:VEVENT
BEGIN:VEVENT
DTSTART;TZID=Europe/London:20191214T150000
DTEND;TZID=Europe/London:20191214T170000
DTSTAMP:20260421T223227
CREATED:20191208T214729Z
LAST-MODIFIED:20191208T214729Z
UID:6597-1576335600-1576342800@www.barnsleysingers.org.uk
SUMMARY:Pre Christmas Concert Rehearsal
DESCRIPTION:We will be rehearsing at the church from 3pm-5pm in black rehearsal\nt-shirts. Members will then need to leave the church and return ready for\nthe concert in concert dress (black with a splash of red) by no later than\n6:30pm. The concert is from 7pm-9:30pm with a 20 minute interval.
URL:https://www.barnsleysingers.org.uk/calendar/pre-christmas-concert-rehearsal/
LOCATION:Emmanuel Church\, Huddersfield Rd\, Barnsley\, S75 1DT
END:VEVENT
BEGIN:VEVENT
DTSTART;TZID=Europe/London:20191214T190000
DTEND;TZID=Europe/London:20191214T210000
DTSTAMP:20260421T223227
CREATED:20190717T212949Z
LAST-MODIFIED:20191208T214520Z
UID:6285-1576350000-1576357200@www.barnsleysingers.org.uk
SUMMARY:Christmas Concert at Emmanuel
DESCRIPTION:We will be rehearsing at the church from 3pm-5pm in black rehearsal\nt-shirts. Members will then need to leave the church and return ready for\nthe concert in concert dress (black with a splash of red) by no later than\n6:30pm. The concert is from 7pm-9:30pm with a 20 minute interval. \nPlease note there is no parking at Emmanuel\, please use the local area but\nbe respectful of local residents. There are a limited number of disabled\nparking spaces available and these will be provided only to those who hold a\nBlue Disabled Parking Badge. If you require a space please bring your badge\nto rehearsal on Tuesday and you will be added to the list. These spaces are\non a first come first served basis. \nWe will be holding a raffle during the concert\, if you have any prizes that\nyou could donate please could you bring these to rehearsal. \nWe also still need some non-singing volunteers to help out at the Concert to\nhelp man the car park\, take tickets\, sell programmes and raffle tickets and\nhelp seat guests in the church. If you know of anyone who is free to help at\nthis event can you please let me know asap – it would be greatly appreciate\nand will help the event run as smoothly as possible. \nAt the concert we will be singing: \nRequiem \nChasing Cars \nLet The River Run \nSomewhere Only We Know \nHallelujah \nStarlight \nWinter’s Tale \nWhite Christmas \nAl Shlosha \nShine \nTotal Praise \nModimo \nStreets of London \nLord Is It Mine \nYou’re Still The One \nHark the Herald Angels Sing \nThis concert is going to be our biggest and best yet and I for one can’t\nwait!! \nTickets are on sale now for £8 from Lynne in rehearsals on Tuesday nights or\nvia the ticket line on 07542 169074 (please leave a message if you can’t get\nthrough stating you want tickets for the Barnsley Singers concert)
URL:https://www.barnsleysingers.org.uk/calendar/christmas-concert-at-emmanuel/
LOCATION:Emmanuel Church\, Huddersfield Rd\, Barnsley\, S75 1DT
END:VEVENT
END:VCALENDAR