BEGIN:VCALENDAR
VERSION:2.0
PRODID:-//Barnsley Singers - ECPv6.15.15//NONSGML v1.0//EN
CALSCALE:GREGORIAN
METHOD:PUBLISH
X-WR-CALNAME:Barnsley Singers
X-ORIGINAL-URL:https://www.barnsleysingers.org.uk
X-WR-CALDESC:Events for Barnsley Singers
REFRESH-INTERVAL;VALUE=DURATION:PT1H
X-Robots-Tag:noindex
X-PUBLISHED-TTL:PT1H
BEGIN:VTIMEZONE
TZID:Europe/London
BEGIN:DAYLIGHT
TZOFFSETFROM:+0000
TZOFFSETTO:+0100
TZNAME:BST
DTSTART:20180325T010000
END:DAYLIGHT
BEGIN:STANDARD
TZOFFSETFROM:+0100
TZOFFSETTO:+0000
TZNAME:GMT
DTSTART:20181028T010000
END:STANDARD
BEGIN:DAYLIGHT
TZOFFSETFROM:+0000
TZOFFSETTO:+0100
TZNAME:BST
DTSTART:20190331T010000
END:DAYLIGHT
BEGIN:STANDARD
TZOFFSETFROM:+0100
TZOFFSETTO:+0000
TZNAME:GMT
DTSTART:20191027T010000
END:STANDARD
BEGIN:DAYLIGHT
TZOFFSETFROM:+0000
TZOFFSETTO:+0100
TZNAME:BST
DTSTART:20200329T010000
END:DAYLIGHT
BEGIN:STANDARD
TZOFFSETFROM:+0100
TZOFFSETTO:+0000
TZNAME:GMT
DTSTART:20201025T010000
END:STANDARD
END:VTIMEZONE
BEGIN:VEVENT
DTSTART;TZID=Europe/London:20191019T100000
DTEND;TZID=Europe/London:20191019T130000
DTSTAMP:20260421T205704
CREATED:20190910T214536Z
LAST-MODIFIED:20191009T210707Z
UID:6328-1571479200-1571490000@www.barnsleysingers.org.uk
SUMMARY:Extra Rehearsal for Stockport Singfest
DESCRIPTION:10am – 1pm Barnsley 6th Form TBC
URL:https://www.barnsleysingers.org.uk/calendar/extra-rehearsal-for-concert/
LOCATION:Barnsley Sixth Form\, Barnsley\, South Yorkshire\, S70 2SR\, United Kingdom
CATEGORIES:Rehearsal
END:VEVENT
BEGIN:VEVENT
DTSTART;VALUE=DATE:20191020
DTEND;VALUE=DATE:20191021
DTSTAMP:20260421T205704
CREATED:20190717T212657Z
LAST-MODIFIED:20191009T210818Z
UID:6281-1571529600-1571615999@www.barnsleysingers.org.uk
SUMMARY:Stockport Singfest - National Teachers Choir and Halle Ancoats Community Choir
DESCRIPTION:Joint Concert with Halle Ancoats Community Choir\nand National Teachers’
URL:https://www.barnsleysingers.org.uk/calendar/joint-concert-with-halle-ancoats-community-choir-and-national-teachers/
CATEGORIES:Concert
END:VEVENT
BEGIN:VEVENT
DTSTART;VALUE=DATE:20191029
DTEND;VALUE=DATE:20191030
DTSTAMP:20260421T205704
CREATED:20190717T220117Z
LAST-MODIFIED:20190717T220117Z
UID:6297-1572307200-1572393599@www.barnsleysingers.org.uk
SUMMARY:No Rehearsal - Half Term
DESCRIPTION:
URL:https://www.barnsleysingers.org.uk/calendar/no-rehearsal-half-term/
END:VEVENT
END:VCALENDAR