BEGIN:VCALENDAR
VERSION:2.0
PRODID:-//Barnsley Singers - ECPv6.15.15//NONSGML v1.0//EN
CALSCALE:GREGORIAN
METHOD:PUBLISH
X-WR-CALNAME:Barnsley Singers
X-ORIGINAL-URL:https://www.barnsleysingers.org.uk
X-WR-CALDESC:Events for Barnsley Singers
REFRESH-INTERVAL;VALUE=DURATION:PT1H
X-Robots-Tag:noindex
X-PUBLISHED-TTL:PT1H
BEGIN:VTIMEZONE
TZID:Europe/London
BEGIN:DAYLIGHT
TZOFFSETFROM:+0000
TZOFFSETTO:+0100
TZNAME:BST
DTSTART:20180325T010000
END:DAYLIGHT
BEGIN:STANDARD
TZOFFSETFROM:+0100
TZOFFSETTO:+0000
TZNAME:GMT
DTSTART:20181028T010000
END:STANDARD
BEGIN:DAYLIGHT
TZOFFSETFROM:+0000
TZOFFSETTO:+0100
TZNAME:BST
DTSTART:20190331T010000
END:DAYLIGHT
BEGIN:STANDARD
TZOFFSETFROM:+0100
TZOFFSETTO:+0000
TZNAME:GMT
DTSTART:20191027T010000
END:STANDARD
BEGIN:DAYLIGHT
TZOFFSETFROM:+0000
TZOFFSETTO:+0100
TZNAME:BST
DTSTART:20200329T010000
END:DAYLIGHT
BEGIN:STANDARD
TZOFFSETFROM:+0100
TZOFFSETTO:+0000
TZNAME:GMT
DTSTART:20201025T010000
END:STANDARD
END:VTIMEZONE
BEGIN:VEVENT
DTSTART;TZID=Europe/London:20190903T190000
DTEND;TZID=Europe/London:20190903T210000
DTSTAMP:20260421T180451
CREATED:20190717T212315Z
LAST-MODIFIED:20190717T214424Z
UID:6279-1567537200-1567544400@www.barnsleysingers.org.uk
SUMMARY:Bring a Friend Rehearsal
DESCRIPTION:Our first rehearsal after our summer break. Bring a friend along for a trial to show them what Barnsley Singers are all about 🙂
URL:https://www.barnsleysingers.org.uk/calendar/bring-a-friend-rehearsal/
LOCATION:Horizon College\, Horizon College\, Dodworth Road\, Barnsley\, South Yorkshire\, S70 6PD\, United Kingdom
CATEGORIES:Rehearsal
END:VEVENT
BEGIN:VEVENT
DTSTART;TZID=Europe/London:20190910T190000
DTEND;TZID=Europe/London:20190910T210000
DTSTAMP:20260421T180451
CREATED:20190717T215618Z
LAST-MODIFIED:20190904T202548Z
UID:6295-1568142000-1568149200@www.barnsleysingers.org.uk
SUMMARY:Rehearsal
DESCRIPTION:
URL:https://www.barnsleysingers.org.uk/calendar/rehearsal-105/
LOCATION:Barnsley Sixth Form\, Barnsley\, South Yorkshire\, S70 2SR\, United Kingdom
CATEGORIES:Rehearsal
END:VEVENT
BEGIN:VEVENT
DTSTART;TZID=Europe/London:20190917T190000
DTEND;TZID=Europe/London:20190917T210000
DTSTAMP:20260421T180451
CREATED:20190717T215233Z
LAST-MODIFIED:20190904T202718Z
UID:6292-1568746800-1568754000@www.barnsleysingers.org.uk
SUMMARY:Rehearsal
DESCRIPTION:
URL:https://www.barnsleysingers.org.uk/calendar/rehearsal-104/
LOCATION:Barnsley Sixth Form\, Barnsley\, South Yorkshire\, S70 2SR\, United Kingdom
CATEGORIES:Rehearsal
END:VEVENT
END:VCALENDAR