BEGIN:VCALENDAR
VERSION:2.0
PRODID:-//Barnsley Singers - ECPv6.15.15//NONSGML v1.0//EN
CALSCALE:GREGORIAN
METHOD:PUBLISH
X-WR-CALNAME:Barnsley Singers
X-ORIGINAL-URL:https://www.barnsleysingers.org.uk
X-WR-CALDESC:Events for Barnsley Singers
REFRESH-INTERVAL;VALUE=DURATION:PT1H
X-Robots-Tag:noindex
X-PUBLISHED-TTL:PT1H
BEGIN:VTIMEZONE
TZID:Europe/London
BEGIN:DAYLIGHT
TZOFFSETFROM:+0000
TZOFFSETTO:+0100
TZNAME:BST
DTSTART:20180325T010000
END:DAYLIGHT
BEGIN:STANDARD
TZOFFSETFROM:+0100
TZOFFSETTO:+0000
TZNAME:GMT
DTSTART:20181028T010000
END:STANDARD
BEGIN:DAYLIGHT
TZOFFSETFROM:+0000
TZOFFSETTO:+0100
TZNAME:BST
DTSTART:20190331T010000
END:DAYLIGHT
BEGIN:STANDARD
TZOFFSETFROM:+0100
TZOFFSETTO:+0000
TZNAME:GMT
DTSTART:20191027T010000
END:STANDARD
BEGIN:DAYLIGHT
TZOFFSETFROM:+0000
TZOFFSETTO:+0100
TZNAME:BST
DTSTART:20200329T010000
END:DAYLIGHT
BEGIN:STANDARD
TZOFFSETFROM:+0100
TZOFFSETTO:+0000
TZNAME:GMT
DTSTART:20201025T010000
END:STANDARD
END:VTIMEZONE
BEGIN:VEVENT
DTSTART;TZID=Europe/London:20190604T180000
DTEND;TZID=Europe/London:20190604T190000
DTSTAMP:20260421T093651
CREATED:20190604T143648Z
LAST-MODIFIED:20190604T143648Z
UID:6242-1559671200-1559674800@www.barnsleysingers.org.uk
SUMMARY:Volunteer Meeting
DESCRIPTION:Barnsley Singers wouldn’t function if it wasn’t for our team of volunteers who help out each week. We are always looking for volunteers who can help. This meeting is open to all current volunteers as well as anyone is interested in joining the team.
URL:https://www.barnsleysingers.org.uk/calendar/volunteer-meeting-3/
LOCATION:Horizon College\, Horizon College\, Dodworth Road\, Barnsley\, South Yorkshire\, S70 6PD\, United Kingdom
CATEGORIES:Volunteer Team Meeting
END:VEVENT
BEGIN:VEVENT
DTSTART;TZID=Europe/London:20190604T190000
DTEND;TZID=Europe/London:20190604T210000
DTSTAMP:20260421T093651
CREATED:20190604T133958Z
LAST-MODIFIED:20190604T133958Z
UID:6235-1559674800-1559682000@www.barnsleysingers.org.uk
SUMMARY:Rehearsal
DESCRIPTION:Theatre \n 
URL:https://www.barnsleysingers.org.uk/calendar/rehearsal-97/
LOCATION:Horizon College\, Horizon College\, Dodworth Road\, Barnsley\, South Yorkshire\, S70 6PD\, United Kingdom
CATEGORIES:Rehearsal
END:VEVENT
BEGIN:VEVENT
DTSTART;TZID=Europe/London:20190614T190000
DTEND;TZID=Europe/London:20190614T210000
DTSTAMP:20260421T093651
CREATED:20190604T134044Z
LAST-MODIFIED:20190605T210128Z
UID:6237-1560538800-1560546000@www.barnsleysingers.org.uk
SUMMARY:Rehearsal
DESCRIPTION:Year 10
URL:https://www.barnsleysingers.org.uk/calendar/rehearsal-98/
LOCATION:Horizon College\, Horizon College\, Dodworth Road\, Barnsley\, South Yorkshire\, S70 6PD\, United Kingdom
CATEGORIES:Rehearsal
END:VEVENT
BEGIN:VEVENT
DTSTART;TZID=Europe/London:20190618T190000
DTEND;TZID=Europe/London:20190618T210000
DTSTAMP:20260421T093651
CREATED:20190611T124058Z
LAST-MODIFIED:20190611T124058Z
UID:6247-1560884400-1560891600@www.barnsleysingers.org.uk
SUMMARY:Rehearsal
DESCRIPTION:
URL:https://www.barnsleysingers.org.uk/calendar/rehearsal-99/
LOCATION:Horizon College\, Horizon College\, Dodworth Road\, Barnsley\, South Yorkshire\, S70 6PD\, United Kingdom
CATEGORIES:Rehearsal
END:VEVENT
BEGIN:VEVENT
DTSTART;TZID=Europe/London:20190620T173000
DTEND;TZID=Europe/London:20190620T210000
DTSTAMP:20260421T093651
CREATED:20190410T225115Z
LAST-MODIFIED:20190611T224659Z
UID:6205-1561051800-1561064400@www.barnsleysingers.org.uk
SUMMARY:BYC10 Gala Massed Choir Rehearsal 5:30pm – 9.00pm
DESCRIPTION:Black Rehearsal T-shirts  \nA very important rehearsal with the massed choir of 500+ singers. Members should wear their black rehearsal t-shirts. Please bring water.  \nPlease leave plenty of time for parking. On arrival you will be redirected to GROVE STREET (by Barnsley Football Club) to access the overspill car park. It is then a very short walk up to the Arena. You will enter the Metrodome via the back main Arena door – not the main front doors.  \nOn arrival you will need to be registered and given a special performer’s wristband for the weekend so please do leave plenty of time to do this. It’s really important that we have time to register you and organise seating before 5.45pm.
URL:https://www.barnsleysingers.org.uk/calendar/byc-gala-concert-rehearsal-6-00pm-9-00pm/
LOCATION:Metrodome\, Queens Road\, barnsley\, south yorkshire\, S71 1Ar\, United Kingdom
CATEGORIES:Rehearsal
END:VEVENT
BEGIN:VEVENT
DTSTART;TZID=Europe/London:20190622T083000
DTEND;TZID=Europe/London:20190622T120000
DTSTAMP:20260421T093651
CREATED:20190611T224337Z
LAST-MODIFIED:20190611T224522Z
UID:6258-1561192200-1561204800@www.barnsleysingers.org.uk
SUMMARY:BYC10 Gala Massed Choir Rehearsal 8:30am - 12:00pm
DESCRIPTION:Metrodome Arena Black rehearsal t-shirts \n8.30am – Arrival at the Arena (please leave plenty of time to park and walk up) 8.45am – 12.00pm Rehearsal 12.00pm – Leave the Arena for lunch
URL:https://www.barnsleysingers.org.uk/calendar/byc10-gala-massed-choir-rehearsal/
LOCATION:Metrodome\, Queens Road\, barnsley\, south yorkshire\, S71 1Ar\, United Kingdom
CATEGORIES:Rehearsal
END:VEVENT
BEGIN:VEVENT
DTSTART;TZID=Europe/London:20190622T142000
DTEND;TZID=Europe/London:20190622T170000
DTSTAMP:20260421T093651
CREATED:20190410T225306Z
LAST-MODIFIED:20190611T224912Z
UID:6207-1561213200-1561222800@www.barnsleysingers.org.uk
SUMMARY:BYC10 Gala Massed Choir Concert 2.20pm – 5.00pm
DESCRIPTION:Metrodome Arena FULL CONCERT UNIFORM! \n2.20pm – Arrival at the Arena (please leave plenty of time to park and walk up) 3.00pm – 5.00pm BYC10 Gala Massed Choir Concert  \nPlease arrive wearing full concert uniform and don’t bring bags/coats etc. Sadly there will be no break out area to keep things safe. Only bring your scores and a water bottle and go straight to your performance seat.
URL:https://www.barnsleysingers.org.uk/calendar/byc10-gala-concert-3-00pm-5-30pm/
LOCATION:Metrodome\, Queens Road\, barnsley\, south yorkshire\, S71 1Ar\, United Kingdom
CATEGORIES:Concert
END:VEVENT
BEGIN:VEVENT
DTSTART;TZID=Europe/London:20190622T200000
DTEND;TZID=Europe/London:20190622T235900
DTSTAMP:20260421T093651
CREATED:20190611T225104Z
LAST-MODIFIED:20190611T225104Z
UID:6265-1561233600-1561247940@www.barnsleysingers.org.uk
SUMMARY:BYC10 Anniversary Party (Not mandatory) Dress to impress! 8.00pm – 12.00am
DESCRIPTION:(arrive and leave when it suits)  \nThis is a ticketed event. This is a very relaxed and fun event where you will have a chance to chat to new friends made at the event and celebrate an amazing weekend together!  \nThere will be a live band and lots of dancing. Suitable for all ages. Whilst the BYC10 Anniversary Party is not mandatory we hope that participants\, friends and their families will come along to the event.  \nThe price of tickets to the party have been reduced from £15.00 each to £6.00 each.
URL:https://www.barnsleysingers.org.uk/calendar/byc10-anniversary-party-not-mandatory-dress-to-impress-8-00pm-12-00am/
LOCATION:Metrodome\, Queens Road\, barnsley\, south yorkshire\, S71 1Ar\, United Kingdom
END:VEVENT
BEGIN:VEVENT
DTSTART;TZID=Europe/London:20190625T190000
DTEND;TZID=Europe/London:20190625T210000
DTSTAMP:20260421T093651
CREATED:20190611T124208Z
LAST-MODIFIED:20190611T124208Z
UID:6249-1561489200-1561496400@www.barnsleysingers.org.uk
SUMMARY:Rehearsal
DESCRIPTION:Year 10
URL:https://www.barnsleysingers.org.uk/calendar/rehearsal-100/
LOCATION:Horizon College\, Horizon College\, Dodworth Road\, Barnsley\, South Yorkshire\, S70 6PD\, United Kingdom
CATEGORIES:Rehearsal
END:VEVENT
END:VCALENDAR