BEGIN:VCALENDAR
VERSION:2.0
PRODID:-//Barnsley Singers - ECPv6.15.15//NONSGML v1.0//EN
CALSCALE:GREGORIAN
METHOD:PUBLISH
X-ORIGINAL-URL:https://www.barnsleysingers.org.uk
X-WR-CALDESC:Events for Barnsley Singers
REFRESH-INTERVAL;VALUE=DURATION:PT1H
X-Robots-Tag:noindex
X-PUBLISHED-TTL:PT1H
BEGIN:VTIMEZONE
TZID:Europe/London
BEGIN:DAYLIGHT
TZOFFSETFROM:+0000
TZOFFSETTO:+0100
TZNAME:BST
DTSTART:20180325T010000
END:DAYLIGHT
BEGIN:STANDARD
TZOFFSETFROM:+0100
TZOFFSETTO:+0000
TZNAME:GMT
DTSTART:20181028T010000
END:STANDARD
BEGIN:DAYLIGHT
TZOFFSETFROM:+0000
TZOFFSETTO:+0100
TZNAME:BST
DTSTART:20190331T010000
END:DAYLIGHT
BEGIN:STANDARD
TZOFFSETFROM:+0100
TZOFFSETTO:+0000
TZNAME:GMT
DTSTART:20191027T010000
END:STANDARD
BEGIN:DAYLIGHT
TZOFFSETFROM:+0000
TZOFFSETTO:+0100
TZNAME:BST
DTSTART:20200329T010000
END:DAYLIGHT
BEGIN:STANDARD
TZOFFSETFROM:+0100
TZOFFSETTO:+0000
TZNAME:GMT
DTSTART:20201025T010000
END:STANDARD
END:VTIMEZONE
BEGIN:VEVENT
DTSTART;TZID=Europe/London:20191115T190000
DTEND;TZID=Europe/London:20191115T235900
DTSTAMP:20260421T223140
CREATED:20190910T215447Z
LAST-MODIFIED:20190910T224823Z
UID:6330-1573844400-1573862340@www.barnsleysingers.org.uk
SUMMARY:Christmas Party!!!
DESCRIPTION:Our Christmass Party at the Fairway\, in the bluebell banqueting suite
URL:https://www.barnsleysingers.org.uk/calendar/christmas-party-2/
LOCATION:Fairway Pub\, Elmhirst Ln\, Dodworth\,\, Barnsley\, S75 4LS
END:VEVENT
END:VCALENDAR