BEGIN:VCALENDAR
VERSION:2.0
PRODID:-//Barnsley Singers - ECPv6.15.15//NONSGML v1.0//EN
CALSCALE:GREGORIAN
METHOD:PUBLISH
X-WR-CALNAME:Barnsley Singers
X-ORIGINAL-URL:https://www.barnsleysingers.org.uk
X-WR-CALDESC:Events for Barnsley Singers
REFRESH-INTERVAL;VALUE=DURATION:PT1H
X-Robots-Tag:noindex
X-PUBLISHED-TTL:PT1H
BEGIN:VTIMEZONE
TZID:Europe/London
BEGIN:DAYLIGHT
TZOFFSETFROM:+0000
TZOFFSETTO:+0100
TZNAME:BST
DTSTART:20180325T010000
END:DAYLIGHT
BEGIN:STANDARD
TZOFFSETFROM:+0100
TZOFFSETTO:+0000
TZNAME:GMT
DTSTART:20181028T010000
END:STANDARD
BEGIN:DAYLIGHT
TZOFFSETFROM:+0000
TZOFFSETTO:+0100
TZNAME:BST
DTSTART:20190331T010000
END:DAYLIGHT
BEGIN:STANDARD
TZOFFSETFROM:+0100
TZOFFSETTO:+0000
TZNAME:GMT
DTSTART:20191027T010000
END:STANDARD
BEGIN:DAYLIGHT
TZOFFSETFROM:+0000
TZOFFSETTO:+0100
TZNAME:BST
DTSTART:20200329T010000
END:DAYLIGHT
BEGIN:STANDARD
TZOFFSETFROM:+0100
TZOFFSETTO:+0000
TZNAME:GMT
DTSTART:20201025T010000
END:STANDARD
END:VTIMEZONE
BEGIN:VEVENT
DTSTART;TZID=Europe/London:20190620T173000
DTEND;TZID=Europe/London:20190620T210000
DTSTAMP:20260421T124904
CREATED:20190410T225115Z
LAST-MODIFIED:20190611T224659Z
UID:6205-1561051800-1561064400@www.barnsleysingers.org.uk
SUMMARY:BYC10 Gala Massed Choir Rehearsal 5:30pm – 9.00pm
DESCRIPTION:Black Rehearsal T-shirts  \nA very important rehearsal with the massed choir of 500+ singers. Members should wear their black rehearsal t-shirts. Please bring water.  \nPlease leave plenty of time for parking. On arrival you will be redirected to GROVE STREET (by Barnsley Football Club) to access the overspill car park. It is then a very short walk up to the Arena. You will enter the Metrodome via the back main Arena door – not the main front doors.  \nOn arrival you will need to be registered and given a special performer’s wristband for the weekend so please do leave plenty of time to do this. It’s really important that we have time to register you and organise seating before 5.45pm.
URL:https://www.barnsleysingers.org.uk/calendar/byc-gala-concert-rehearsal-6-00pm-9-00pm/
LOCATION:Metrodome\, Queens Road\, barnsley\, south yorkshire\, S71 1Ar\, United Kingdom
CATEGORIES:Rehearsal
END:VEVENT
END:VCALENDAR