BEGIN:VCALENDAR
VERSION:2.0
PRODID:-//Barnsley Singers - ECPv6.15.15//NONSGML v1.0//EN
CALSCALE:GREGORIAN
METHOD:PUBLISH
X-WR-CALNAME:Barnsley Singers
X-ORIGINAL-URL:https://www.barnsleysingers.org.uk
X-WR-CALDESC:Events for Barnsley Singers
REFRESH-INTERVAL;VALUE=DURATION:PT1H
X-Robots-Tag:noindex
X-PUBLISHED-TTL:PT1H
BEGIN:VTIMEZONE
TZID:Europe/London
BEGIN:DAYLIGHT
TZOFFSETFROM:+0000
TZOFFSETTO:+0100
TZNAME:BST
DTSTART:20180325T010000
END:DAYLIGHT
BEGIN:STANDARD
TZOFFSETFROM:+0100
TZOFFSETTO:+0000
TZNAME:GMT
DTSTART:20181028T010000
END:STANDARD
BEGIN:DAYLIGHT
TZOFFSETFROM:+0000
TZOFFSETTO:+0100
TZNAME:BST
DTSTART:20190331T010000
END:DAYLIGHT
BEGIN:STANDARD
TZOFFSETFROM:+0100
TZOFFSETTO:+0000
TZNAME:GMT
DTSTART:20191027T010000
END:STANDARD
BEGIN:DAYLIGHT
TZOFFSETFROM:+0000
TZOFFSETTO:+0100
TZNAME:BST
DTSTART:20200329T010000
END:DAYLIGHT
BEGIN:STANDARD
TZOFFSETFROM:+0100
TZOFFSETTO:+0000
TZNAME:GMT
DTSTART:20201025T010000
END:STANDARD
END:VTIMEZONE
BEGIN:VEVENT
DTSTART;TZID=Europe/London:20190511T160000
DTEND;TZID=Europe/London:20190511T180000
DTSTAMP:20260421T111902
CREATED:20190507T083141Z
LAST-MODIFIED:20190507T083713Z
UID:6218-1557590400-1557597600@www.barnsleysingers.org.uk
SUMMARY:May Concert Rehearsal
DESCRIPTION:We will be having a rehearsal on concert day at 4pm at the Civic\, and won’t be leaving until after the concert so please come in your concert clothing and bring a snack for between rehearsal and concert.
URL:https://www.barnsleysingers.org.uk/calendar/may-concert-rehearsal/
LOCATION:Barnsley Civic\, S70 2HZ
END:VEVENT
BEGIN:VEVENT
DTSTART;TZID=Europe/London:20190511T190000
DTEND;TZID=Europe/London:20190511T210000
DTSTAMP:20260421T111902
CREATED:20181210T123120Z
LAST-MODIFIED:20190507T082931Z
UID:6141-1557601200-1557608400@www.barnsleysingers.org.uk
SUMMARY:May Concert
DESCRIPTION:Concert starts at 7pm – Barnsley civic.   Concert dress will be usual black with a hint of red (no leggings or jeans please)
URL:https://www.barnsleysingers.org.uk/calendar/may-concert-2/
LOCATION:Barnsley Civic\, S70 2HZ
END:VEVENT
END:VCALENDAR